BEGIN:VCALENDAR
VERSION:2.0
PRODID:-//The Trail Conservancy - ECPv6.15.16//NONSGML v1.0//EN
CALSCALE:GREGORIAN
METHOD:PUBLISH
X-ORIGINAL-URL:https://thetrailconservancy.org
X-WR-CALDESC:Events for The Trail Conservancy
REFRESH-INTERVAL;VALUE=DURATION:PT1H
X-Robots-Tag:noindex
X-PUBLISHED-TTL:PT1H
BEGIN:VTIMEZONE
TZID:America/Chicago
BEGIN:DAYLIGHT
TZOFFSETFROM:-0600
TZOFFSETTO:-0500
TZNAME:CDT
DTSTART:20240310T080000
END:DAYLIGHT
BEGIN:STANDARD
TZOFFSETFROM:-0500
TZOFFSETTO:-0600
TZNAME:CST
DTSTART:20241103T070000
END:STANDARD
BEGIN:DAYLIGHT
TZOFFSETFROM:-0600
TZOFFSETTO:-0500
TZNAME:CDT
DTSTART:20250309T080000
END:DAYLIGHT
BEGIN:STANDARD
TZOFFSETFROM:-0500
TZOFFSETTO:-0600
TZNAME:CST
DTSTART:20251102T070000
END:STANDARD
BEGIN:DAYLIGHT
TZOFFSETFROM:-0600
TZOFFSETTO:-0500
TZNAME:CDT
DTSTART:20260308T080000
END:DAYLIGHT
BEGIN:STANDARD
TZOFFSETFROM:-0500
TZOFFSETTO:-0600
TZNAME:CST
DTSTART:20261101T070000
END:STANDARD
END:VTIMEZONE
BEGIN:VEVENT
DTSTART;VALUE=DATE:20250206
DTEND;VALUE=DATE:20250902
DTSTAMP:20260423T051453
CREATED:20250124T183900Z
LAST-MODIFIED:20250919T150340Z
UID:10000380-1738800000-1756771199@thetrailconservancy.org
SUMMARY:Maraca Bench Tour
DESCRIPTION:The Maraca Bench Trail Tour 2025\nThe Longhorn Dam Pedestrian Bridge will mark a milestone for the Butler Trail\, completing the loop so Trail users can enjoy a seamless\, traffic-free experience! To celebrate\, we are unveiling our new Maraca benches—a first for the Trail. Designed by Austin-based Lemmo Architecture and Design and fabricated by Harvest Lumber Co.\, these benches honor the neighborhood’s Hispanic roots\, history\, and culture. A total of 31 benches will be installed along the bridge\, set to open in 2026. \n \nWe’re taking our first Maraca bench on a trip around the Trail for everyone to see! The “roadshow” bench is the prototype we built to confirm bench height\, depth\, back angle and supports. Through this process\, we decided to reduce the width of the seat by 2-1/2 inches for the 14 benches to be placed on the bridge. The bench plaque will also be slightly smaller than shown at 3 x 10 inches. \nFrom February through the Fall of 2025\, catch a prototype of the Maraca bench at three spots on the Trail: \n\nFebruary – Rainey Street Trailhead\nMay – Auditorium Shores\nAugust – Holly Shores\n\nFebruary\nRainey Street TrailHead \nMay\nAuditorium Shores \nAugust\nHolly Shores \nThe “Maraca” benches will be made of reclaimed/salvaged hardwood from cypress trees\, and they will feature light tones that are weatherproofed. Additionally\, the benches will be accented with powder-coated steel in shades that honor the neighborhood’s Hispanic roots\, history\, and culture. \n  \nInspiration & Design\nLearn more about the unique bench designs and the local inspiration behind them from Lemmo Architecture and Design’s design booklet.\nSee Now \nBench Adoption\nAdopting a bench is a wonderful way to honor a loved one or give a meaningful gift.\nAdoption Details \nInspiration & Design\nLearn more about the unique bench designs and the local inspiration behind them from Lemmo Architecture and Design’s design booklet.\nSee Now \nBench Adoption\nAdopting a bench is a wonderful way to honor a loved one or give a meaningful gift.\nAdoption Details
URL:https://thetrailconservancy.org/event/maraca-bench-tour/
LOCATION:Ann and Roy Butler Hike-and-Bike Trail\, Austin\, TX\, 78704\, United States
ATTACH;FMTTYPE=image/jpeg:https://thetrailconservancy.org/wp-content/uploads/2025/01/Event-Featured-Images-3.jpg
GEO:30.2589065;-97.743633
END:VEVENT
BEGIN:VEVENT
DTSTART;TZID=America/Chicago:20250301T100000
DTEND;TZID=America/Chicago:20250301T130000
DTSTAMP:20260423T051453
CREATED:20250110T212107Z
LAST-MODIFIED:20250110T212107Z
UID:10000377-1740823200-1740834000@thetrailconservancy.org
SUMMARY:Rain Garden Planting | Congress Rain Garden
DESCRIPTION:GSI Planting \nThe Trail Conservancy continues to improve floodplain health by installing and maintaining green stormwater infrastructure (rain gardens) along the Trail. These structures reduce the impact of heavy storm flows and improve water infiltration. \nVolunteers will learn about rain gardens\, their importance to our Trail\, and how to plant and maintain them. TTC will provide materials\, gloves\, and extra water for volunteers. \n\nEvent Details\nRegister Here \n\nMeeting Location: Auditorium Shores – Please look for an orange TTC board. We will take a 20-minute walk to the Congress Rain Garden.\nParking Information: Free parking and street parking are available at the Auditorium Shores parking lot and along Riverside Drive.\nWhat to bring and wear: Wear closed-toed shoes\, long pants\, and sun protection (sunglasses and a hat). Bring a filled water bottle. TTC will provide gloves and tools for the event.\n\n\nVolunteer On The Trail\nLooking for more volunteer opportunities? Our GivePulse page lists all upcoming volunteer events:
URL:https://thetrailconservancy.org/event/rain-garden-planting-congress-rain-garden/
LOCATION:Auditorium Shores\, 900 W Riverside Dr\, Austin\, TX\, 78704\, United States
CATEGORIES:Volunteer
ATTACH;FMTTYPE=image/jpeg:https://thetrailconservancy.org/wp-content/uploads/2025/01/volunteer-on-the-trail.jpg
END:VEVENT
BEGIN:VEVENT
DTSTART;TZID=America/Chicago:20250303T170000
DTEND;TZID=America/Chicago:20250303T183000
DTSTAMP:20260423T051453
CREATED:20250128T202017Z
LAST-MODIFIED:20250224T184953Z
UID:10000381-1741021200-1741026600@thetrailconservancy.org
SUMMARY:Barre Fusion Class | TrailFit: TruFusion Spring Fitness Series
DESCRIPTION:TrailFit Spring Fitness Series\nOn the first Monday of March\, April\, and May enjoy a FREE workout at Auditorium Shores with TruFusion Austin. The fitness experts at TruFusion will provide a different class each month: Barre Fusion\, Yoga\, and Pilates Fusion. \nWhether you’re a seasoned fitness enthusiast or just getting started\, no experience is required. Each session will be guided by an experienced instructor from TruFusion\, making it a fun and supportive environment for all fitness levels. \n  \nRSVP HERE \n\nAbout the Class\nJoin us for the first class of the TrailFit: TruFusion Spring Fitness Series at the Rainey Street Trailhead on Monday\, March 3rd at 5:30 PM!  \nFinish your day strong & sweat it out with us in this high-energy Barre Fusion class! This class will set your booty on fire! High-energy music will keep you motivated as you pulse\, tuck\, and hold through muscle-toning micro movements using your body weight and resistance bands. \nPlus\, there will be swag bags with samples and discounts from local vendors! All participants are also eligible for an exclusive discount on TruFusion membership. \n  \nWHAT TO BRING:  \n\nYoga Mat\nSweat Towel \nWater Bottle \n\n  \nPlease fill out the event waiver here: https://www.waiverking.com/print/27452?landingpage=TruFusionSouthAustinMembershipForms \n  \nCAN’T MAKE IT THIS TIME? NO SWEAT JOIN US \nMonday April 7th \nMonday May 5th 
URL:https://thetrailconservancy.org/event/trail-fit-barre/
LOCATION:Rainey Street Trailhead\, 36 East Ave\, Austin\, TX 78701
CATEGORIES:TrailFit
ATTACH;FMTTYPE=image/jpeg:https://thetrailconservancy.org/wp-content/uploads/2025/01/Event-Featured-Images.jpg
END:VEVENT
BEGIN:VEVENT
DTSTART;TZID=America/Chicago:20250305T090000
DTEND;TZID=America/Chicago:20250305T110000
DTSTAMP:20260423T051453
CREATED:20250219T215358Z
LAST-MODIFIED:20250219T215358Z
UID:10000388-1741165200-1741172400@thetrailconservancy.org
SUMMARY:Plant Work Day | March 5
DESCRIPTION:Weekly Plant Workdays \nJoin us on every other Wednesday to repot\, water\, maintain\, and care of native plants. No previous tree or potting experience is required.  TTC will provide materials\, gloves\, and extra water for volunteers. \n  \nEvent Details\nRegister Here \n\nMeeting Location: Holly Trailhead (GoogleMaps Link). Please look for an orange TTC flag or tent.\nParking Information: Free parking south of the Camacho Community Center (GoogleMaps Link)\nWhat to bring and wear: Wear closed-toed shoes\, long pants\, and sun protection (sunglasses and a hat). Bring a filled water bottle. TTC will provide gloves and tools for the event. \n\n\nVolunteer On The Trail\nLooking for more volunteer opportunities? Our GivePulse page lists all upcoming volunteer events:
URL:https://thetrailconservancy.org/event/plant-workday-1/
LOCATION:2 Robert T Martinez Junior Street Austin\, Texas 78702\, 2 Robert T Martinez Junior Street\, Austin\, Texas\, 78702
CATEGORIES:Volunteer
ATTACH;FMTTYPE=image/jpeg:https://thetrailconservancy.org/wp-content/uploads/2025/02/volunteer-on-the-trail-1.jpg
END:VEVENT
BEGIN:VEVENT
DTSTART;TZID=America/Chicago:20250308T100000
DTEND;TZID=America/Chicago:20250308T130000
DTSTAMP:20260423T051453
CREATED:20250303T170043Z
LAST-MODIFIED:20250303T170043Z
UID:10000404-1741428000-1741438800@thetrailconservancy.org
SUMMARY:Rain Garden Planting With Latino Outdoors | East Avenue Rain Garden
DESCRIPTION:GSI Planting \nThe Trail Conservancy continues to improve floodplain health by installing and maintaining green stormwater infrastructure (rain gardens) along the Trail. These structures reduce the impact of heavy storm flows and improve water infiltration. \nVolunteers will learn about rain gardens\, their importance to our Trail\, and how to plant and maintain them. TTC will provide materials\, gloves\, and extra water for volunteers. \n\nEvent Details\nRegister Here \nThis event is in partnership with the Austin chapter of Latino Outdoors \n\nMeeting Location: East Avenue Rain Garden – Please look for an orange TTC tent or sail flag.\nParking Information: Paid street parking along East Avenue. Free parking is available under I-35 and east of I-35.\nWhat to bring and wear: Wear closed-toed shoes\, long pants\, and sun protection (sunglasses and a hat). Bring a filled water bottle. TTC will provide gloves and tools for the event. \nLatino Outdoor Austin Chapter: After you register for the event\, please fill out the LO Smartwaiver.\n\n\nVolunteer On The Trail\nLooking for more volunteer opportunities? Our GivePulse page lists all upcoming volunteer events:
URL:https://thetrailconservancy.org/event/rain-garden-planting-east-avenue/
LOCATION:East Avenue Rain Garden\, 23 East Ave\, Austin\, TX 78701\, Austin
CATEGORIES:Volunteer
ATTACH;FMTTYPE=image/jpeg:https://thetrailconservancy.org/wp-content/uploads/2025/01/volunteer-on-the-trail.jpg
END:VEVENT
BEGIN:VEVENT
DTSTART;TZID=America/Chicago:20250312T180000
DTEND;TZID=America/Chicago:20250312T193000
DTSTAMP:20260423T051453
CREATED:20250226T192929Z
LAST-MODIFIED:20250226T220205Z
UID:10000398-1741802400-1741807800@thetrailconservancy.org
SUMMARY:Music On The Trail | Kelsi Creek
DESCRIPTION:« All Events\n \n																														 \nMusic On The Trail | Kelsi Creek\n			March 12\n	  @\n6:00 pm\n	  –\n7:30 pm \nShake up your Wednesday nights with Music on the Trail—a free live music series right on the Ann and Roy Butler Hike and Bike Trail. Every week\, the Rainey Street Trailhead lawn transforms into Austin’s coolest outdoor concert spot\, featuring incredible local musicians. Whether you’re here to discover new sounds\, jam out to an Austin favorite\, or just add a live soundtrack to your evening stroll\, we promise good tunes and great vibes. So grab a blanket\, bring some friends\, and let’s make Wednesdays the best night of the week. \n\n			\n		Rainey Street Trailhead			\n	\n\n36 East Ave\, Austin\, TX 78701\n\n\n	+ Google Map \n\n					\n						\n	 \n\n\n \nGet To Know The Artist\nKelsi Creek is an Alternative Rock-Soul artist renowned for her dynamic energy and emotive songwriting. Self-taught as a singer-songwriter\, Creek seamlessly blends powerful vocals with a distinctive rhythmic guitar style that distinguishes her in the music industry. Born from a passion for storytelling\, Creek’s music explores themes of love\, loss\, societal issues\, and the empowerment of self-advocacy.  \nShe has performed for Sofar Sounds\, Dripping Springs Songwriters Festival\, Panama City Songwriters festival\, Bloom Fest and even opened for Kelsey Wilson of Sir Woman. Her band is set to play at this year’s Pecan Street Festival 2025! \n					\n					\n						Youtube\n											\n					\n						Instagram\n											\n					\n						Link
URL:https://thetrailconservancy.org/event/music-on-the-trail-kelsi-creek/
LOCATION:Rainey Street Trailhead\, 36 East Ave\, Austin\, TX 78701
CATEGORIES:Music On The Trail Series
ATTACH;FMTTYPE=image/jpeg:https://thetrailconservancy.org/wp-content/uploads/2025/02/MOTT.jpg
END:VEVENT
BEGIN:VEVENT
DTSTART;TZID=America/Chicago:20250315T090000
DTEND;TZID=America/Chicago:20250315T110000
DTSTAMP:20260423T051453
CREATED:20250221T212516Z
LAST-MODIFIED:20250305T223535Z
UID:10000396-1742029200-1742036400@thetrailconservancy.org
SUMMARY:Art Walk & Talk
DESCRIPTION:Are you an artist interested in public art opportunities in Austin? Join TTC for a guided walk and discussion exploring public art opportunities around Austin! Representatives from the City of Austin’s Art in Public Places program\, Austin International Airport\, and The Trail Conservancy will lead the conversation\, sharing insights into upcoming projects and the impact of public art in our city. \nEvent Info\n\nLocation: Seaholm Waterfront\, 707 W Cesar Chavez St\, Austin\, 78701\nTime: 9:00am – 11:00am\nRSVP HERE
URL:https://thetrailconservancy.org/event/art-walk-talk/
LOCATION:Seaholm Intake Facility\, 801 West Cesar Chavez Street\, Austin\, TX\, 78701\, United States
CATEGORIES:Arts+Culture
ATTACH;FMTTYPE=image/jpeg:https://thetrailconservancy.org/wp-content/uploads/2025/02/Event-Featured-Images-8.jpg
END:VEVENT
BEGIN:VEVENT
DTSTART;TZID=America/Chicago:20250315T100000
DTEND;TZID=America/Chicago:20250315T130000
DTSTAMP:20260423T051453
CREATED:20250108T165220Z
LAST-MODIFIED:20250221T163107Z
UID:10000375-1742032800-1742043600@thetrailconservancy.org
SUMMARY:Rain Garden Planting | North Shore Rain Garden
DESCRIPTION:GSI Planting \nThe Trail Conservancy continues to improve floodplain health by installing and maintaining green stormwater infrastructure (rain gardens) along the Trail. These structures reduce the impact of heavy storm flows and improve water infiltration. \nVolunteers will learn about rain gardens\, their importance to our Trail\, and how to plant and maintain them. TTC will provide materials\, gloves\, and extra water for volunteers. \n\nEvent Details\nRegister Here \n\nMeeting Location: North Shore Overlook – Please look out for an orange TTC sail flag or tent\nParking Information: Street parking is available on both sides along Stephen F. Austin Drive\nWhat to bring and wear: Wear closed-toed shoes\, long pants\, and sun protection (sunglasses and a hat). Bring a filled water bottle. TTC will provide gloves and tools for the event. \n\n\nVolunteer On The Trail\nLooking for more volunteer opportunities? Our GivePulse page lists all upcoming volunteer events:
URL:https://thetrailconservancy.org/event/rain-garden-planting-north-shore-rain-garden/
LOCATION:North Shore Overlook\, Stephen F Austin Dr\, Austin\, TX 78703
CATEGORIES:Volunteer
ATTACH;FMTTYPE=image/jpeg:https://thetrailconservancy.org/wp-content/uploads/2025/01/volunteer-on-the-trail.jpg
END:VEVENT
BEGIN:VEVENT
DTSTART;TZID=America/Chicago:20250319T090000
DTEND;TZID=America/Chicago:20250319T110000
DTSTAMP:20260423T051453
CREATED:20250219T215548Z
LAST-MODIFIED:20250219T215548Z
UID:10000389-1742374800-1742382000@thetrailconservancy.org
SUMMARY:Plant Work Day | March 19
DESCRIPTION:Weekly Plant Workdays \nJoin us on every other Wednesday to repot\, water\, maintain\, and care of native plants. No previous tree or potting experience is required.  TTC will provide materials\, gloves\, and extra water for volunteers. \n  \nEvent Details\nRegister Here \n\nMeeting Location: Holly Trailhead (GoogleMaps Link). Please look for an orange TTC flag or tent.\nParking Information: Free parking south of the Camacho Community Center (GoogleMaps Link)\nWhat to bring and wear: Wear closed-toed shoes\, long pants\, and sun protection (sunglasses and a hat). Bring a filled water bottle. TTC will provide gloves and tools for the event. \n\n\nVolunteer On The Trail\nLooking for more volunteer opportunities? Our GivePulse page lists all upcoming volunteer events:
URL:https://thetrailconservancy.org/event/plant-workday-2/
LOCATION:2 Robert T Martinez Junior Street Austin\, Texas 78702\, 2 Robert T Martinez Junior Street\, Austin\, Texas\, 78702
CATEGORIES:Volunteer
ATTACH;FMTTYPE=image/jpeg:https://thetrailconservancy.org/wp-content/uploads/2025/02/volunteer-on-the-trail-1.jpg
END:VEVENT
BEGIN:VEVENT
DTSTART;TZID=America/Chicago:20250319T180000
DTEND;TZID=America/Chicago:20250319T193000
DTSTAMP:20260423T051453
CREATED:20250226T203158Z
LAST-MODIFIED:20250303T193618Z
UID:10000399-1742407200-1742412600@thetrailconservancy.org
SUMMARY:Music On The Trail | J Reese Collective
DESCRIPTION:« All Events\n \n																														 \nMusic On The Trail | J Reese Collective\n			March 19\n	  @\n6:00 pm\n	  –\n7:30 pm \nShake up your Wednesday nights with Music on the Trail—a free live music series right on the Ann and Roy Butler Hike and Bike Trail. Every week\, the Rainey Street Trailhead lawn transforms into Austin’s coolest outdoor concert spot\, featuring incredible local musicians. Whether you’re here to discover new sounds\, jam out to an Austin favorite\, or just add a live soundtrack to your evening stroll\, we promise good tunes and great vibes. So grab a blanket\, bring some friends\, and let’s make Wednesdays the best night of the week! \n\n			\n		Rainey Street Trailhead			\n	\n\n36 East Ave\, Austin\, TX 78701\n\n\n	+ Google Map \n\n					\n						\n	 \n\n\n \nGet To Know The Artist\nJ Reese is a powerhouse performer whose musical journey started before he could walk\, singing alongside his father’s guitar. What began in church evolved into a career filled with soulful\, high-energy performances that captivate every audience. \nAn HBCU graduate\, J Reese blends the soul of Prince\, the smoothness of Marvin Gaye\, and the funk of Stevie Wonder into his sound. With an impressive four-octave range\, he effortlessly commands the stage\, living by the motto\, “I’ll sing in whatever key you play.” Whether belting out originals\, reimagining classics\, or headlining tribute shows\, J Reese always delivers. \n					\n					\n						Instagram\n											\n					\n						Link
URL:https://thetrailconservancy.org/event/music-on-the-trail-j-reese/
LOCATION:Rainey Street Trailhead\, 36 East Ave\, Austin\, TX 78701
CATEGORIES:Music On The Trail Series
ATTACH;FMTTYPE=image/jpeg:https://thetrailconservancy.org/wp-content/uploads/2025/02/MOTT-2.jpg
END:VEVENT
BEGIN:VEVENT
DTSTART;TZID=America/Chicago:20250322T090000
DTEND;TZID=America/Chicago:20250322T120000
DTSTAMP:20260423T051453
CREATED:20250225T185737Z
LAST-MODIFIED:20250225T190548Z
UID:10000397-1742634000-1742644800@thetrailconservancy.org
SUMMARY:Kids on Bikes in Parks
DESCRIPTION:« All Events\n \n\n	Kids on Bikes in Parks\n			March 22\n	  @\n9:00 am\n	  –\n12:00 pm \nKids on Bikes in Parks is a free cycling event presented by Violet Crown\, The LeadOut Foundation\, and The Trail Conservancy. We have a closed course of 1000 ft of grassy parkland for children ages 5-15 to ride their bikes on. We will have open track time with experienced cyclists present to teach lessons and at the top of every hour\, we will have timed laps for kids to test themselves and track their progress. \nWe will have a fleet of bikes provided by WOOM Bikes on hand for any child wishing to try one or without a bike of their own to ride the course. All participants are eligible to receive some giveaways from Mellow Johnny’s Bike Shop and Trek Bikes. \nParents/guardians must remain on-site but can enjoy some cold beverages while supervising their children on the course. PLEASE NOTE HELMETS ARE REQUIRED AT ALL TIMES WHEN ON A BIKE. \n	 \n\n			\n		Chicano Park			\n	\n\n2101 Jesse E. Segovia St\n		\n		Austin\,\n	Texas\n	78702\n\n\n	+ Google Map \n\n					\n						\n	 \n\n\n\n	 \n\n			\n		Chicano Park			\n	\n\n2101 Jesse E. Segovia St\n		\n		Austin\,\n	Texas\n	78702\n\n\n	+ Google Map
URL:https://thetrailconservancy.org/event/kids-on-bikes-in-parks-3/
LOCATION:Chicano Park\, 2101 Jesse E. Segovia St\, Austin\, Texas\, 78702
CATEGORIES:Kids + Family
ATTACH;FMTTYPE=image/jpeg:https://thetrailconservancy.org/wp-content/uploads/2025/02/Event-Featured-Images-9.jpg
END:VEVENT
BEGIN:VEVENT
DTSTART;TZID=America/Chicago:20250322T100000
DTEND;TZID=America/Chicago:20250322T130000
DTSTAMP:20260423T051453
CREATED:20250306T154545Z
LAST-MODIFIED:20250306T154545Z
UID:10000407-1742637600-1742648400@thetrailconservancy.org
SUMMARY:Rain Garden Planting | North Shore Rain Garden
DESCRIPTION:GSI Planting \nThe Trail Conservancy continues to improve floodplain health by installing and maintaining green stormwater infrastructure (rain gardens) along the Trail. These structures reduce the impact of heavy storm flows and improve water infiltration. \nVolunteers will learn about rain gardens\, their importance to our Trail\, and how to plant and maintain them. TTC will provide materials\, gloves\, and extra water for volunteers. \n\nEvent Details\nRegister Here \n\nMeeting Location: Auditorium Shores – Please look for an orange TTC tent or sail flag.\nParking Information: Free parking and street parking are available at the Auditorium Shores parking lot and along Riverside Drive.\nWhat to bring and wear: Wear closed-toed shoes\, long pants\, and sun protection (sunglasses and a hat). Bring a filled water bottle. TTC will provide gloves and tools for the event. \n\nVolunteer On The Trail\nLooking for more volunteer opportunities? Our GivePulse page lists all upcoming volunteer events:
URL:https://thetrailconservancy.org/event/rain-garden-planting-north-shore-rain-garden-2/
LOCATION:Auditorium Shores\, 900 W Riverside Dr\, Austin\, TX\, 78704\, United States
CATEGORIES:Volunteer
ATTACH;FMTTYPE=image/jpeg:https://thetrailconservancy.org/wp-content/uploads/2025/01/volunteer-on-the-trail.jpg
END:VEVENT
BEGIN:VEVENT
DTSTART;TZID=America/Chicago:20250328T073000
DTEND;TZID=America/Chicago:20250328T100000
DTSTAMP:20260423T051453
CREATED:20250108T154249Z
LAST-MODIFIED:20250218T220507Z
UID:10000371-1743147000-1743156000@thetrailconservancy.org
SUMMARY:Bird Walk with Travis Audubon
DESCRIPTION:Join Rachel Zierzow and TTC staff\, Jonatan Salinas\, to find birds and observe their behavior on the new section of the Butler Trail\, the Holly Trailhead\, historically part of the decommissioned Holly Power Plant at Festival Beach. Recently planted native trees\, shrubs\, wildflowers\, and natural spring water dominate the landscape and provide excellent habitats for many different species of birds. As TTC restores this new section of the trail\, we will see a change of birds\, so you’ll want to come on this monthly walk. \nThis bird walk is ideal for beginners\, but all levels are welcome. We have binoculars to lend to anyone that doesn’t have a pair. Our walk will total 1-2 miles in about 3 hours\, making our way through the Holly Trail and adjacent to Lady Bird Lake to listen to and look for resident birds\, migrants\, and flyovers. The terrain is mostly flat (dissolved gravel trail and sidewalks) and there is ADA accessibility at the Holly Trail Overlook.  In winter\, we will stop at the Holly Trail overlook section of the trail a bit to watch the waterfowl. \nRegistration is required and is limited to 10 participants. A reminder email with pertinent details will be sent before the field trip. Register HERE!
URL:https://thetrailconservancy.org/event/bird-walk-with-travis-audubon-9/
LOCATION:Ann and Roy Butler Hike-and-Bike Trail\, Austin\, TX\, 78704\, United States
CATEGORIES:Bird Walks
ATTACH;FMTTYPE=image/jpeg:https://thetrailconservancy.org/wp-content/uploads/2024/10/Event-Featured-Images.jpg
GEO:30.2589065;-97.743633
END:VEVENT
BEGIN:VEVENT
DTSTART;TZID=America/Chicago:20250329T090000
DTEND;TZID=America/Chicago:20250329T120000
DTSTAMP:20260423T051453
CREATED:20250306T155833Z
LAST-MODIFIED:20250306T155833Z
UID:10000408-1743238800-1743249600@thetrailconservancy.org
SUMMARY:Invasive Species Management
DESCRIPTION:Invasive Species Management\nNot all plants belong in the Trail ecosystem! As part of our ongoing restoration efforts\, TTC actively removes invasive plant species along the shoreline of Lady Bird Lake. By doing so\, we help native plants thrive and restore balance to the ecosystem. \nAs a volunteer\, you’ll work alongside the TTC team to identify and remove invasive species using specialized tools like weed wrenches and uprooters. Join us in protecting the natural beauty of the Trail—one plant at a time! \n\nEvent Details\nRegister Here \n\nMeeting Location: Holly Trailhead (GoogleMaps Link). Please look for an orange TTC flag or tent.\nParking Information: Free parking south of the Camacho Community Center (GoogleMaps Link)\nProject: Invasive Species Management\, removing introduced plants through mechanical removal.\nWhat to bring and wear: Wear closed-toed shoes\, long pants\, and sun protection (sunglasses and a hat). Bring a filled water bottle. TTC will provide gloves and tools for the event\n\nVolunteer On The Trail\nLooking for more volunteer opportunities? Our GivePulse page lists all upcoming volunteer events:
URL:https://thetrailconservancy.org/event/invasive-species-management/
LOCATION:2 Robert T Martinez Junior Street Austin\, Texas 78702\, 2 Robert T Martinez Junior Street\, Austin\, Texas\, 78702
CATEGORIES:Volunteer
ATTACH;FMTTYPE=image/jpeg:https://thetrailconservancy.org/wp-content/uploads/2025/01/volunteer-on-the-trail.jpg
END:VEVENT
END:VCALENDAR