BEGIN:VCALENDAR
VERSION:2.0
PRODID:-//The Trail Conservancy - ECPv6.15.16//NONSGML v1.0//EN
CALSCALE:GREGORIAN
METHOD:PUBLISH
X-WR-CALNAME:The Trail Conservancy
X-ORIGINAL-URL:https://thetrailconservancy.org
X-WR-CALDESC:Events for The Trail Conservancy
REFRESH-INTERVAL;VALUE=DURATION:PT1H
X-Robots-Tag:noindex
X-PUBLISHED-TTL:PT1H
BEGIN:VTIMEZONE
TZID:America/Chicago
BEGIN:DAYLIGHT
TZOFFSETFROM:-0600
TZOFFSETTO:-0500
TZNAME:CDT
DTSTART:20230312T080000
END:DAYLIGHT
BEGIN:STANDARD
TZOFFSETFROM:-0500
TZOFFSETTO:-0600
TZNAME:CST
DTSTART:20231105T070000
END:STANDARD
BEGIN:DAYLIGHT
TZOFFSETFROM:-0600
TZOFFSETTO:-0500
TZNAME:CDT
DTSTART:20240310T080000
END:DAYLIGHT
BEGIN:STANDARD
TZOFFSETFROM:-0500
TZOFFSETTO:-0600
TZNAME:CST
DTSTART:20241103T070000
END:STANDARD
BEGIN:DAYLIGHT
TZOFFSETFROM:-0600
TZOFFSETTO:-0500
TZNAME:CDT
DTSTART:20250309T080000
END:DAYLIGHT
BEGIN:STANDARD
TZOFFSETFROM:-0500
TZOFFSETTO:-0600
TZNAME:CST
DTSTART:20251102T070000
END:STANDARD
END:VTIMEZONE
BEGIN:VEVENT
DTSTART;VALUE=DATE:20240101
DTEND;VALUE=DATE:20250101
DTSTAMP:20260422T052210
CREATED:20240514T165848Z
LAST-MODIFIED:20240514T180711Z
UID:10000247-1704067200-1735689599@thetrailconservancy.org
SUMMARY:Volunteer on the Trail
DESCRIPTION:The Trail Conservancy relies on volunteers to complete many ecological restoration projects\, events\, and tasks to keep the Butler Hike-and-Bike Trail on the right trajectory toward improved ecological function. Volunteering with TTC ranges from litter abatement\, planting\, seeding\, invasive species removal\, and more. \nOur team works with individuals\, businesses\, corporations\, and community groups to complete hands-on Trail improvement projects throughout the year. We also receive grant funding for volunteer activities from the City of Austin Watershed Protection Department as part of its Lady Bird Lake Shoreline Stewardship Program. \nOur volunteers are at the core of what we do. And\, as we increase our efforts on the Ann & Roy Butler Hike-and-Bike Trail\, we rely on the help of our volunteers. You can find all our volunteer options at the link: https://thetrailconservancy.org/support/volunteer-opportunities/
URL:https://thetrailconservancy.org/event/volunteer-on-the-trail/
LOCATION:Ann and Roy Butler Hike-and-Bike Trail\, Austin\, TX\, 78704\, United States
ATTACH;FMTTYPE=image/jpeg:https://thetrailconservancy.org/wp-content/uploads/2024/05/DSCN0797-2.jpg
GEO:30.2589065;-97.743633
END:VEVENT
BEGIN:VEVENT
DTSTART;TZID=America/Chicago:20240605T200000
DTEND;TZID=America/Chicago:20240605T220000
DTSTAMP:20260422T052210
CREATED:20240513T182423Z
LAST-MODIFIED:20240513T182423Z
UID:10000245-1717617600-1717624800@thetrailconservancy.org
SUMMARY:Maudie's Moonlight Margarita Run
DESCRIPTION:Lace-up your running shoes and prepare for an unforgettable night of fun\, fitness\, and margaritas as Maudie’s Moonlight Margarita 5K Fun Run turns 21! \nFor over two decades\, runners\, joggers\, walkers\, and margarita lovers have converged in downtown Austin for a shotgun start and 5K course that travels along the streets bordering Lady Bird Lake and the Butler Trail before ending back at the park for the highly anticipated Tex-Mex party and margarita celebration. \nThis year’s run will be Wednesday\, June 5\, 2024 – aligning with Global Running Day\, but don’t let that intimidate you. This worldwide celebration encourages people of all ages and abilities to get moving. So\, join us\, move a little\, and then celebrate! \n  \nRegistration includes: \n\nRace Entry\n21st Anniversary Maudie’s Moonlight Margarita 5K Run shirt\nEntry to the Maudie’s Finish Line Celebration\nTwo Maudie’s Margaritas\nMaudie’s Tex-Mex appetizer-sized bites\nNon-alcoholic drinks
URL:https://thetrailconservancy.org/event/maudies-moonlight-margarita-run/
LOCATION:Auditorium Shores\, 900 W Riverside Dr\, Austin\, TX\, 78704\, United States
CATEGORIES:Signature Events
ATTACH;FMTTYPE=image/jpeg:https://thetrailconservancy.org/wp-content/uploads/2023/08/Untitled-design-1-1.jpg
END:VEVENT
BEGIN:VEVENT
DTSTART;TZID=America/Chicago:20240628T073000
DTEND;TZID=America/Chicago:20240628T103000
DTSTAMP:20260422T052210
CREATED:20240514T181555Z
LAST-MODIFIED:20240514T181619Z
UID:10000249-1719559800-1719570600@thetrailconservancy.org
SUMMARY:Bird Walk with Travis Audubon
DESCRIPTION:Join Rachel Zierzow and TTC staff\, Jonatan Salinas\, to find birds and observe their behavior on the new section of the Butler Trail\, the Holly Trailhead\, historically part of the decommissioned Holly Power Plant at Festival Beach. Recently planted native trees\, shrubs\, wildflowers\, and natural spring water dominate the landscape and provide excellent habitats for many different species of birds. As TTC restores this new section of the trail\, we will see a change of birds\, so you’ll want to come on this monthly walk. \nThis bird walk is ideal for beginners\, but all levels are welcome. We have binoculars to lend to anyone that doesn’t have a pair. Our walk will total 1-2 miles in about 3 hours\, making our way through the Holly Trail and adjacent to Lady Bird Lake to listen to and look for resident birds\, migrants\, and flyovers. The terrain is mostly flat (dissolved gravel trail and sidewalks) and there is ADA accessibility at the Holly Trail Overlook.  In winter\, we will take a stop at the Holly Trail overlook section of the trail a bit to watch the waterfowl. \nRegistration is required and is limited to 10 participants. A reminder email will be sent with pertinent details before the field trip. Register here: https://travisaudubon.org/?event=birding-at-lady-bird-lake-with-the-trail-conservancy-2&event_date=2024-06-28
URL:https://thetrailconservancy.org/event/bird-walk-with-travis-audubon-2/
LOCATION:Ann and Roy Butler Hike-and-Bike Trail\, Austin\, TX\, 78704\, United States
ATTACH;FMTTYPE=image/jpeg:https://thetrailconservancy.org/wp-content/uploads/2024/01/IMG_0180.jpg
GEO:30.2589065;-97.743633
END:VEVENT
END:VCALENDAR