BEGIN:VCALENDAR
VERSION:2.0
PRODID:-//The Trail Conservancy - ECPv6.15.16//NONSGML v1.0//EN
CALSCALE:GREGORIAN
METHOD:PUBLISH
X-WR-CALNAME:The Trail Conservancy
X-ORIGINAL-URL:https://thetrailconservancy.org
X-WR-CALDESC:Events for The Trail Conservancy
REFRESH-INTERVAL;VALUE=DURATION:PT1H
X-Robots-Tag:noindex
X-PUBLISHED-TTL:PT1H
BEGIN:VTIMEZONE
TZID:America/Chicago
BEGIN:DAYLIGHT
TZOFFSETFROM:-0600
TZOFFSETTO:-0500
TZNAME:CDT
DTSTART:20250309T080000
END:DAYLIGHT
BEGIN:STANDARD
TZOFFSETFROM:-0500
TZOFFSETTO:-0600
TZNAME:CST
DTSTART:20251102T070000
END:STANDARD
BEGIN:DAYLIGHT
TZOFFSETFROM:-0600
TZOFFSETTO:-0500
TZNAME:CDT
DTSTART:20260308T080000
END:DAYLIGHT
BEGIN:STANDARD
TZOFFSETFROM:-0500
TZOFFSETTO:-0600
TZNAME:CST
DTSTART:20261101T070000
END:STANDARD
BEGIN:DAYLIGHT
TZOFFSETFROM:-0600
TZOFFSETTO:-0500
TZNAME:CDT
DTSTART:20270314T080000
END:DAYLIGHT
BEGIN:STANDARD
TZOFFSETFROM:-0500
TZOFFSETTO:-0600
TZNAME:CST
DTSTART:20271107T070000
END:STANDARD
END:VTIMEZONE
BEGIN:VEVENT
DTSTART;TZID=America/Chicago:20260422T180000
DTEND;TZID=America/Chicago:20260422T193000
DTSTAMP:20260422T052751
CREATED:20260217T223158Z
LAST-MODIFIED:20260415T194907Z
UID:10000545-1776880800-1776886200@thetrailconservancy.org
SUMMARY:Music On The Trail | Nik Parr
DESCRIPTION:« All Events \n\nApril 15\n@\n6:00 pm\n–\n7:30 pm \nNik Parr\nMUSIC ON THE TRAIL | SPRING 2026\nShake up your Wednesday nights with Music on the Trail—a free live music series right on the Ann and Roy Butler Hike and Bike Trail. Every week\, the Rainey Street Trailhead lawn transforms into a cozy\, chill outdoor concert spot\, featuring a new local musician every show. Whether you’re here to discover new sounds\, jam out to an Austin favorite\, or just add a live soundtrack to your evening stroll\, we promise good tunes and great vibes. So grab a blanket\, bring some friends\, and let’s make Wednesdays the best night of the week! \n\nAdd to Calendar\n \nAbout the Artist\nNik Parr & The Selfless Lovers are a high-energy\, piano-driven roots rock band hailing from Austin\, Texas. Imagine the raw passion of Bruce Springsteen colliding with the electrifying showmanship of Jerry Lee Lewis—New Orleans late-night revelry infused with Southern rock soul and a Texas Gulf Coast groove. And if that’s not enough\, Nik Parr takes it to the next level\, playing saxophone and piano at the same time—you’ve got to see it to believe it. Check out the videos on Instagram. \n\nInstagram\n\n\nGlobe\n\n\nFacebook\n\n \nGetting There\nThis park space features: \nSEATING AREA \nGRASSY LAWN \nNATURE PLAY \nRESTROOMS \nCity metered street parking is available along East Ave. and Cummings St. \n \nRelated Events\n\n\n  \n\nMusic On The Trail | Next of Kin \nMarch 11 @ 6:00 pm – 7:30 pm\n\n  \n\nMusic On The Trail | Lorena \nMarch 18 @ 6:00 pm – 7:30 pm\n\n  \n\nMusic On The Trail | Madam Radar \nMarch 25 @ 6:00 pm – 7:30 pm\n\n\n\n\nMusic On The Trail | Pat Byrne \n\nEarth Day Cleanup 2026
URL:https://thetrailconservancy.org/event/music-on-the-trail-nik-parr/
LOCATION:Rainey Street Trailhead\, 36 East Ave\, Austin\, TX 78701
CATEGORIES:Kids + Family,Music On The Trail Series
ATTACH;FMTTYPE=image/png:https://thetrailconservancy.org/wp-content/uploads/2026/02/nik-parr.png
END:VEVENT
END:VCALENDAR