BEGIN:VCALENDAR
VERSION:2.0
PRODID:-//The Trail Conservancy - ECPv6.15.16//NONSGML v1.0//EN
CALSCALE:GREGORIAN
METHOD:PUBLISH
X-ORIGINAL-URL:https://thetrailconservancy.org
X-WR-CALDESC:Events for The Trail Conservancy
REFRESH-INTERVAL;VALUE=DURATION:PT1H
X-Robots-Tag:noindex
X-PUBLISHED-TTL:PT1H
BEGIN:VTIMEZONE
TZID:America/Chicago
BEGIN:DAYLIGHT
TZOFFSETFROM:-0600
TZOFFSETTO:-0500
TZNAME:CDT
DTSTART:20240310T080000
END:DAYLIGHT
BEGIN:STANDARD
TZOFFSETFROM:-0500
TZOFFSETTO:-0600
TZNAME:CST
DTSTART:20241103T070000
END:STANDARD
BEGIN:DAYLIGHT
TZOFFSETFROM:-0600
TZOFFSETTO:-0500
TZNAME:CDT
DTSTART:20250309T080000
END:DAYLIGHT
BEGIN:STANDARD
TZOFFSETFROM:-0500
TZOFFSETTO:-0600
TZNAME:CST
DTSTART:20251102T070000
END:STANDARD
BEGIN:DAYLIGHT
TZOFFSETFROM:-0600
TZOFFSETTO:-0500
TZNAME:CDT
DTSTART:20260308T080000
END:DAYLIGHT
BEGIN:STANDARD
TZOFFSETFROM:-0500
TZOFFSETTO:-0600
TZNAME:CST
DTSTART:20261101T070000
END:STANDARD
END:VTIMEZONE
BEGIN:VEVENT
DTSTART;TZID=America/Chicago:20251028T180000
DTEND;TZID=America/Chicago:20251028T193000
DTSTAMP:20260421T093155
CREATED:20251016T203309Z
LAST-MODIFIED:20251016T211838Z
UID:10000491-1761674400-1761679800@thetrailconservancy.org
SUMMARY:Sunset Silent Yoga
DESCRIPTION:« All Events \n\n \nSunset Silent Yoga with SwiftFit\nOctober 28\n@\n6:00 pm\n–\n7:30 pm \nSPOOKY SILENT FLOW: HALLOWEEN YOGA + SUNSET TRAIL WALK Silent Disco Headphones. Halloween Vibes. Sunset Magic. \nReady to stretch\, flow\, and vibe in the most Austin way to celebrate Halloween? Join The Trail Conservancy and Swift Fit Events for the city’s most unique Halloween experience: a silent disco yoga flow followed by a sunset trail walk—all powered by Austin Silent Disco headphones. \nThis isn’t your average yoga class. This is a full sensory Halloween experience on the Trail. \nTHE VIBE:  Silent disco headphones by Austin Silent Disco – everyone flowing to the same curated playlist\n 45-minute Halloween-themed yoga flow – fun\, energizing\, and grounding\n Sunset trail walk – decompress\, connect\, and soak in golden hour magic\n Costumes highly encouraged – Halloween activewear? Spooky yoga pants? Creative athleisure? YES PLEASE \nGetting to the Event\nOur sunset flow will be at Auditorium Shores. There is a parking lot on the east side of the park\, and street parking is available along W Riverside Drive. \n\nAuditorium Shores \n900 W Riverside Dr \nAustin\,\nTX\n78704\nUnited States\n+ Google Map \n\n0  \n\n \n\n\n\nTwilight On The Trail \n\nWednesday Plant Workdays
URL:https://thetrailconservancy.org/event/sunset-silent-yoga/
LOCATION:Auditorium Shores\, 900 W Riverside Dr\, Austin\, TX\, 78704\, United States
CATEGORIES:TrailFit
ATTACH;FMTTYPE=image/png:https://thetrailconservancy.org/wp-content/uploads/2025/10/45.png
END:VEVENT
END:VCALENDAR